BEGIN:VCALENDAR
VERSION:2.0
PRODID:-//wp-events-plugin.com//6.6.3//EN
TZID:Europe/Oslo
X-WR-TIMEZONE:Europe/Oslo
BEGIN:VEVENT
UID:43@utvikling.nrfk.org
DTSTART;TZID=Europe/Oslo;VALUE=DATE:20190525
DTEND;TZID=Europe/Oslo;VALUE=DATE:20190526
DTSTAMP:20190423T090128Z
URL:https://utvikling.nrfk.org/events/test-flere-dager/
SUMMARY:Test flere dager
DESCRIPTION:Test flere dager
END:VEVENT
BEGIN:VTIMEZONE
TZID:Europe/Oslo
X-LIC-LOCATION:Europe/Oslo
BEGIN:DAYLIGHT
DTSTART:20190331T030000
TZOFFSETFROM:+0100
TZOFFSETTO:+0200
TZNAME:CEST
END:DAYLIGHT
END:VTIMEZONE
END:VCALENDAR