BEGIN:VCALENDAR
VERSION:2.0
PRODID:-//wp-events-plugin.com//6.6.3//EN
TZID:Europe/Oslo
X-WR-TIMEZONE:Europe/Oslo
BEGIN:VEVENT
UID:51@utvikling.nrfk.org
DTSTART;TZID=Europe/Oslo:20230228T010000
DTEND;TZID=Europe/Oslo:20230228T014500
DTSTAMP:20230210T123437Z
URL:https://utvikling.nrfk.org/events/test-23/
SUMMARY:Test 23
DESCRIPTION:ccc
CATEGORIES:Styremøte
END:VEVENT
BEGIN:VTIMEZONE
TZID:Europe/Oslo
X-LIC-LOCATION:Europe/Oslo
BEGIN:STANDARD
DTSTART:20221030T020000
TZOFFSETFROM:+0200
TZOFFSETTO:+0100
TZNAME:CET
END:STANDARD
END:VTIMEZONE
END:VCALENDAR