BEGIN:VCALENDAR
VERSION:2.0
PRODID:-//wp-events-plugin.com//6.6.3//EN
TZID:Europe/Oslo
X-WR-TIMEZONE:Europe/Oslo
BEGIN:VEVENT
UID:44@utvikling.nrfk.org
DTSTART;TZID=Europe/Oslo:20190513T000000
DTEND;TZID=Europe/Oslo:20190513T001500
DTSTAMP:20190423T090021Z
URL:https://utvikling.nrfk.org/events/aktivitet/
SUMMARY:Aktivitet
DESCRIPTION:En ny aktivitet
END:VEVENT
BEGIN:VTIMEZONE
TZID:Europe/Oslo
X-LIC-LOCATION:Europe/Oslo
BEGIN:DAYLIGHT
DTSTART:20190331T030000
TZOFFSETFROM:+0100
TZOFFSETTO:+0200
TZNAME:CEST
END:DAYLIGHT
END:VTIMEZONE
END:VCALENDAR